BEGIN:VCALENDAR
VERSION:2.0
PRODID:-//Date iCal//NONSGML kigkonsult.se iCalcreator 2.20.2//
METHOD:PUBLISH
X-WR-CALNAME;VALUE=TEXT:Event Calendar
BEGIN:VTIMEZONE
TZID:America/New_York
BEGIN:STANDARD
DTSTART:20211107T020000
TZOFFSETFROM:-0400
TZOFFSETTO:-0500
TZNAME:EST
END:STANDARD
BEGIN:DAYLIGHT
DTSTART:20210314T020000
TZOFFSETFROM:-0500
TZOFFSETTO:-0400
RDATE:20220313T020000
TZNAME:EDT
END:DAYLIGHT
END:VTIMEZONE
BEGIN:VEVENT
UID:calendar.5855.field_event_date.0@pa.audubon.org
DTSTAMP:20210915T175229Z
CREATED:20210914T135938Z
DESCRIPTION:Join Audubon and Darby Creek Valley Association for a pl\n  Sat
 urday\, October 9\, 2021 - \n06:00 to 08:00
DTSTART;TZID=America/New_York:20211009T060000
DTEND;TZID=America/New_York:20211009T080000
LAST-MODIFIED:20210914T135938Z
LOCATION:1338 S 59th St\, Philadelphia\, Pennsylvania\, 19143\, United Stat
 es
SUMMARY:Tree Planting at Whitby Meadows (Cobbs Creek Park)
URL;TYPE=URI:https://pa.audubon.org/events/tree-planting-whitby-meadows-cob
 bs-creek-park-0
END:VEVENT
END:VCALENDAR
